BEGIN:VCALENDAR
VERSION:2.0
PRODID:icalendar-ruby
CALSCALE:GREGORIAN
METHOD:PUBLISH
BEGIN:VEVENT
DTSTAMP:20260426T032318Z
UID:066d5f3a-5e68-4e27-8dd7-d05c0feca4b4
DTSTART:20260426T120000
DTEND:20260426T130000
DESCRIPTION:\n  Eine zweite Einheit in der Woche für unsere jüngsten Mitg
 lieder. \nAnmeldung auch hier bitte nur über die Gruppe in Spond. Wer ei
 nen Link zur Gruppe haben möchte\, schreibe an die Jugendsparte@triabolos
 .de
LOCATION:Bartholomäusstraße 95\, 22083 Hamburg
SUMMARY:Haie Einheit 2
URL;VALUE=URI:http://www.triabolos.de/calendar/events/12623
END:VEVENT
END:VCALENDAR
