BEGIN:VCALENDAR
VERSION:2.0
PRODID:icalendar-ruby
CALSCALE:GREGORIAN
METHOD:PUBLISH
BEGIN:VEVENT
DTSTAMP:20260426T032211Z
UID:8327b65b-cfa4-4e39-b3ca-2301c5447be1
DTSTART:20260426T130000
DTEND:20260426T140000
DESCRIPTION:\n  Wer viel schwimmt\, wird schneller. Wer schnell schwimmt\, 
 ist früher in der Wechselzone und kann das Rennen von vorn angehen. Wer e
 s testen möchte\, hat mit der Sonntags-Zeit die Möglichkeit die zu tun.\
 n\nAnmeldungen finden ausschliesslich über Spond statt.
LOCATION:Bartholomäusstraße 95\, 22083 Hamburg
SUMMARY:3. Schwimmeinheit Jugend
URL;VALUE=URI:http://www.triabolos.de/calendar/events/12762
END:VEVENT
END:VCALENDAR
