BEGIN:VCALENDAR
VERSION:2.0
PRODID:icalendar-ruby
CALSCALE:GREGORIAN
METHOD:PUBLISH
BEGIN:VEVENT
DTSTAMP:20260422T031125Z
UID:bb7407db-0129-4c9d-9139-95b528e3faf8
DTSTART:20260422T191500
DTEND:20260422T201500
DESCRIPTION:\n  Exklusiv für Liga-Starter:innen. Bitte eigene (Lauf-)Uhr m
 itbringen!
LOCATION:Jahnkampfbahn
SUMMARY:Lauftraining mit Mehran
URL;VALUE=URI:http://www.triabolos.de/calendar/events/13853
END:VEVENT
END:VCALENDAR
