BEGIN:VCALENDAR
VERSION:2.0
PRODID:icalendar-ruby
CALSCALE:GREGORIAN
METHOD:PUBLISH
BEGIN:VEVENT
DTSTAMP:20260425T032948Z
UID:bbddb2a8-3b17-48ee-9412-f878eeafa223
DTSTART:20260425T100000
DTEND:20260425T110000
DESCRIPTION:Radtourenausfahrt vom RSC Vegesack e.V.\nStrecken sind  56 / 8
 0 / 120 km\nangegeben sind die Startzeiten
LOCATION:Schwaneweder Straße 129 28790 Schwanewede Meyenburger Schützenve
 rein 
SUMMARY:RTF - Rund um Moor und Geest
URL;VALUE=URI:http://www.triabolos.de/calendar/events/13909
END:VEVENT
END:VCALENDAR
