BEGIN:VCALENDAR
VERSION:2.0
PRODID:icalendar-ruby
CALSCALE:GREGORIAN
METHOD:PUBLISH
BEGIN:VEVENT
DTSTAMP:20260426T032430Z
UID:c713fdd9-e4eb-4b67-ab27-61c05e3b805f
DTSTART:20260426T090000
DTEND:20260426T110000
DESCRIPTION:Radtourenausfahrt vom Radsport Team Lübeck v. 1990 e.V.\nStrec
 ken sind 60 / 100 / 130 / 160 km
LOCATION:Ludwig-Jahn-Str. 23611 Bad Schwartau Schulzentrum 
SUMMARY:RTF - 35. Ostholstein-Rundfahrt
URL;VALUE=URI:http://www.triabolos.de/calendar/events/13910
END:VEVENT
END:VCALENDAR
