BEGIN:VCALENDAR
VERSION:2.0
PRODID:icalendar-ruby
CALSCALE:GREGORIAN
METHOD:PUBLISH
BEGIN:VEVENT
DTSTAMP:20260420T060936Z
UID:bd142b79-b51f-4737-b622-9c9cfdf8645c
DTSTART:20260421T180000
DTEND:20260421T190000
DESCRIPTION:\n  Schwimmtraining für Kinder ab 10 Jahren. Da wir hier aber 
 nur ein Bahn zur Verfügung haben\, sollte der die Teilnehmer mindestens 1
  Bahn kraulen können. (als Richtwert) -\n\nIn den Hamburger Schulferien k
 önnen die Startzeiten abweichen! Im Zweifel bei uns nachfragen!\n\nAnmeld
 ungen zum Training erfolgt ausschliesslich über SPOND! Wer eine Einladung
  zum Training bekommen möchte\, sende bitte eine Mail an  Jugendsparte@t
 riabolos.de
LOCATION:Fabriciusstraße 223 22177 Hamburg Deutschland
SUMMARY:Schwimmtraining
URL;VALUE=URI:http://www.triabolos.de/calendar/events/13981
END:VEVENT
END:VCALENDAR
