BEGIN:VCALENDAR
VERSION:2.0
PRODID:icalendar-ruby
CALSCALE:GREGORIAN
METHOD:PUBLISH
BEGIN:VEVENT
DTSTAMP:20260424T032338Z
UID:24028167-0c02-4f15-9056-423e83c13610
DTSTART:20260424T170000
DTEND:20260424T180000
DESCRIPTION:\n  Für alle die noch wenig Erfahrung mit Lauftraining haben! 
 Auf kurzen Distanzen wird hier mit Spaß an der Grundschnelligkeit gearbei
 tet\, Lauftechnik aufgebaut\, Koordination gestärkt und ein  Laufgefühl
   entwickelt!\n\nFür Teilnehme ab ca 7/8 - 11 Jahren. \n\nDie Terminabs
 timmung findet über SPOND statt. Wer noch kein Zugang hat\, bitte per mai
 l bei uns melden!\n\nUnd das Training findet in den Hamburger Schulferien 
 nur nach Absprache statt.\nAnmeldungen zum Training erfolgt ausschliesslic
 h über SPOND! Wer eine Einladung zum Training bekommen möchte\, sende bi
 tte eine Mail an  Jugendsparte@triabolos.de
LOCATION:Jahnkampfbahn\, Linnering 1 22299 Hamburg Deutschland
SUMMARY:Lauftraining  Gruppe 1
URL;VALUE=URI:http://www.triabolos.de/calendar/events/14086
END:VEVENT
END:VCALENDAR
