BEGIN:VCALENDAR
VERSION:2.0
PRODID:icalendar-ruby
CALSCALE:GREGORIAN
METHOD:PUBLISH
BEGIN:VEVENT
DTSTAMP:20260424T032227Z
UID:fb03c7bf-f02e-48b8-97ed-e6f1eb71f5e1
DTSTART:20260424T180000
DTEND:20260424T190000
DESCRIPTION:\n  Zum Ende der Woche ein Highlight für alle die gern Laufen!
  In der Gruppe trainieren macht mehr Spaß als allein. Mit  Lauf- und Koo
 rdinationsübungen\, Intervall-Einheiten\, oder ruhigen Läufen ist das Tr
 aining abwechslungsreich und effektiv. Und wer regelmäßig dabei ist\, ka
 nn nur schneller werden. \n\nFür Teilnehmer ab 12 Jahren (ca) . \n\nUnd
  in den Ferien findet das Training nur nach Absprache statt! \nAnmeldunge
 n zum Training erfolgt ausschliesslich über SPOND! Wer eine Einladung zum
  Training bekommen möchte\, sende bitte eine Mail an  Jugendsparte@triab
 olos.de
LOCATION:Jahnkampfbahn\, Linnering 1 22299 Hamburg Deutschland
SUMMARY:Lauftraining Gruppe 2
URL;VALUE=URI:http://www.triabolos.de/calendar/events/14190
END:VEVENT
END:VCALENDAR
