BEGIN:VCALENDAR
VERSION:2.0
PRODID:icalendar-ruby
CALSCALE:GREGORIAN
METHOD:PUBLISH
BEGIN:VEVENT
DTSTAMP:20260425T033111Z
UID:294b4ca6-b4dd-4e94-a383-b1aca52a4f2a
DTSTART:20260425T100000
DTEND:20260425T110000
DESCRIPTION:\n  Diese Zeit ist für die schnellsten unter den jüngsten. Un
 d für alle\, die bereits an Triathlon -Wettkämpfen teilnehmen. Denn Fini
 sher sollten immer Zeit bekommen trainieren zu können.\n\nBitte immer gan
 z pünktlich da sein\, damit die Gruppe zusammen starten kann! \n\nTermin
 abstimmung findet bei uns über SPOND statt. - Wer einen Zugangslink dafü
 r braucht\, melde sich bitte per mail! 
LOCATION:Bartholomäusstraße 95\, 22083 Hamburg
SUMMARY:Haie 3- Schwimmtraining
URL;VALUE=URI:http://www.triabolos.de/calendar/events/14710
END:VEVENT
END:VCALENDAR
