BEGIN:VCALENDAR
VERSION:2.0
PRODID:icalendar-ruby
CALSCALE:GREGORIAN
METHOD:PUBLISH
BEGIN:VEVENT
DTSTAMP:20260423T031746Z
UID:4379fbbc-9b89-4cf4-9a9a-9d90177b4fb7
DTSTART:20260423T180000
DTEND:20260423T201500
DESCRIPTION:Rennradtrainings-Runde im Norden Hamburgs .\nTreffen ist um 18:
 00 Uhr am Kreisel in Duvenstedt.\nWenn wir unsere "Standard-Runde" fahren 
 sind es ca. 60km. Wenn wir andere Varianten fahren werden die Runden etwas
  länger.\nGeschwindigkeit ca. 28 bis 30 km/h im Schnitt. Wir passen die G
 eschwindigkeit aber immer den Bedürfnissen der Gruppe an.\n>> Die Trainin
 gsrunde ist eine rein private Veranstaltung. Die Teilnahme erfolgt auf eig
 ene Gefahr. Es besteht kein zusätzlicher Versicherungsschutz seitens drit
 ter.<<
LOCATION:Kreisel in Duvenstedt
SUMMARY:Rennradtour ab Duvenstedt
URL;VALUE=URI:http://www.triabolos.de/calendar/events/14921
END:VEVENT
END:VCALENDAR
