BEGIN:VCALENDAR
VERSION:2.0
PRODID:icalendar-ruby
CALSCALE:GREGORIAN
METHOD:PUBLISH
BEGIN:VEVENT
DTSTAMP:20260421T043616Z
UID:3ad7dd95-89ee-4221-ba15-1580b3cf5595
DTSTART:20260422T180000
DTEND:20260422T190000
DESCRIPTION:NEU - NOVEMBER 2025 - NEU\n\nDer Abmelde-Button für das jeweil
 ige Schwimmtraining wird zwei Stunden vor Trainingsbeginn automatisch dea
 ktiviert.\n\n\nACHTUNG\n\n\nBeachtet bitte die Benutzungsbedingungen: Meld
 et euch bis spätestens 24 Stunden vorher – bzw. so früh wie möglich /
  umgehend – ab\, damit ein anderes Mitglied die Möglichkeit hat\, sich 
 zum Schwimmtraining anzumelden und noch rechtzeitig vor Ort sein kann.\n\n
 Bitte melde dich nur an\, wenn du sicher weißt\, dass du am Training teil
 nehmen kannst.\n\nDer Kalendereintrag entspricht deiner Anmeldung und ist 
 verpflichtend. Wenn du unentschuldigt nicht kommst\, müssen wir leider 10
  Euro einziehen.\n\n\nACHTUNG\n\n\nSchwimmtraining im Inselpark in Wilhelm
 sburg
LOCATION:Inselpark\, Kurt-Emmerich-Platz 12\, 21109 Hamburg
SUMMARY:Schwimmtraining Inselpark
URL;VALUE=URI:http://www.triabolos.de/calendar/events/14959
END:VEVENT
END:VCALENDAR
