BEGIN:VCALENDAR
VERSION:2.0
PRODID:icalendar-ruby
CALSCALE:GREGORIAN
METHOD:PUBLISH
BEGIN:VEVENT
DTSTAMP:20260421T005513Z
UID:34013cca-0674-40a8-bd82-28e51d5efb35
DTSTART:20260424T160000
DTEND:20260424T180000
DESCRIPTION: Hamburg trainiert für OlympJA! – Die Triabolos sagen JA zu 
 Olympia\n \n Hamburg bewegt sich – und wir Triabolos bewegen uns mit.\n 
 Mit der Initiative OlympJA! setzen engagierte Menschen aus Sport\, Kultur 
 und Stadtgesellschaft ein klares Zeichen für die Olympischen und Paralymp
 ischen Spiele in Hamburg. Als größter reiner Triathlonverein Deutschland
 s stehen wir für Bewegung\, Vielfalt\, Gemeinschaft und Fair Play – Wer
 te\, die auch die Olympische Idee ausmachen.\n \n Hamburg hat die Chance\,
  sich als weltoffene Sportstadt zu präsentieren und langfristig von besse
 rer Infrastruktur\, moderneren Sportstätten und einer starken Förderung 
 des Breiten‑ und Nachwuchssports zu profitieren. Davon profitieren nicht
  nur Spitzensportlerinnen und Spitzensportler\, sondern vor allem Vereine\
 , Kinder\, Jugendliche und Ehrenamtliche.\n\n Aktionstag: Hamburg trainier
 t für OlympJA!\n \n Wo: Jungfernstieg / Binnenalster\n Wann:  Freitag\, 2
 4. April\, 16:00–18:00 Uhr\n \n Unter dem Motto „Hamburg trainiert fü
 r OlympJA!“ sind Sportvereine aus ganz Hamburg eingeladen\, gemeinsam si
 chtbar zu werden. Kommt in Vereinskleidung\, bringt eure Trainingsgeräte\
 , Flaggen oder Banner mit – und zeigt\, wie bunt\, laut und leidenschaft
 lich Vereinssport in Hamburg ist.\n \n Triabolos – gemeinsam ein starkes
  Zeichen setzen
LOCATION:Jungfernstieg / Binnenalster
SUMMARY:Triabolos sagen JA zu Olympia
URL;VALUE=URI:http://www.triabolos.de/calendar/events/14975
END:VEVENT
END:VCALENDAR
